BEGIN:VCALENDAR
VERSION:2.0
PRODID:-//Farnhill Parish Council//Meeting Calendar//EN
CALSCALE:GREGORIAN
METHOD:PUBLISH
BEGIN:VEVENT
UID:70692-20250515@farnhillparishcouncil.gov.uk
DTSTAMP:20260421T081748Z
DTSTART;VALUE=DATE:20250515
DTEND;VALUE=DATE:20250516
SUMMARY:The Annual Meeting of the Council followed by FPC meeting 15.05.2025
DESCRIPTION:Full Council Meeting\nView details: https://farnhillparishcouncil.gov.uk/meetings/the-annual-meeting-of-the-council-followed-by-fpc-meeting-15-05-2025/
URL:https://farnhillparishcouncil.gov.uk/meetings/the-annual-meeting-of-the-council-followed-by-fpc-meeting-15-05-2025/
END:VEVENT
END:VCALENDAR
